BEGIN:VCALENDAR
VERSION:2.0
PRODID:-//Cyber Insurance Academy - ECPv6.15.20//NONSGML v1.0//EN
CALSCALE:GREGORIAN
METHOD:PUBLISH
X-ORIGINAL-URL:https://www.cyberinsuranceacademy.com
X-WR-CALDESC:Events for Cyber Insurance Academy
REFRESH-INTERVAL;VALUE=DURATION:PT1H
X-Robots-Tag:noindex
X-PUBLISHED-TTL:PT1H
BEGIN:VTIMEZONE
TZID:UTC
BEGIN:STANDARD
TZOFFSETFROM:+0000
TZOFFSETTO:+0000
TZNAME:UTC
DTSTART:20220101T000000
END:STANDARD
END:VTIMEZONE
BEGIN:VEVENT
DTSTART;TZID=UTC:20230913T160000
DTEND;TZID=UTC:20230913T170000
DTSTAMP:20260419T153713
CREATED:20230913T180032Z
LAST-MODIFIED:20250320T150122Z
UID:10001888-1694620800-1694624400@www.cyberinsuranceacademy.com
SUMMARY:Masterclass: Preparing Insureds of Third Party Cyber Risks and Supply Chain Cyber Attacks
DESCRIPTION:Preparing Insureds of Third-Party Cyber Risks and Supply Chain Cyber Attacks\nIn today’s interconnected world\, third-party cyber risk is a serious threat to all businesses and organizations. Cyber insurance professionals must be able to address the risks associated with doing business with unsecured third parties (“upstream” and “downstream”)\, and how to mitigate those risks. This Third-Party Cyber Risks Masterclass is ideal for insurance professionals on both the broker and carrier side\, (underwriting and claims) who want to take a deeper dive into a very significant issue that frequently arises in cyber claims. \nMasterclass Learning Objectives:\n\nExplain the cyber risks associated with third-party access to policyholder data\nOutline best practices to mitigate those risks\nIdentify the risks associated with third parties in the policyholder’s upstream and downstream supply chain\nApply legal and regulatory requirements related to digital supply chain cyber risk to your assessment of an insured’s cyber risk posture\n\nMasterclass Speaker:\nStuart A. Panensky\, Esq. \nPartner\, FisherBroyles\, LLP \nStuart Panensky is an experienced corporate privacy attorney and commercial litigator. Stu has extensive experience acting as incident response / data breach counsel to companies in multiple industry sectors. In leading incident response investigations\, Stu is networked with industry leading incident response vendors (IT\, forensics\, data mining\, public relations\, breach notification and others) and coordinates them as appropriate. Stu advocates for clients that are subject to State and Federal government privacy investigations and has personally handled every phase of commercial litigation. Stu also provides corporate privacy counsel\, drafts incident response planning documents and hosts mock-breach “tabletop” presentations. \nAbout Fisher Broyles\nFisherBroyles is the world’s first and largest distributed law firm\, ranked by The American Lawyer as one of the 200 largest law firms by revenue. \n		\n					\n						\n					\n			\n						\n				\n							\n\n						\n				\n								\n			\n			\n						\n\n									\n						\n							Unlock more world-class knowledge and expertise.						\n					\n				\n				\n			\n			\n		\n						\n				\n				\n				\n									Upgrade your membership to enjoy unlimited access to premium content. 								\n				\n				\n				\n							\n			\n		\n						\n				\n				\n				\n									\n					\n						\n									Upgrade Membership\n					\n					\n				\n								\n				\n				\n				\n									Already have an account? 								\n				\n				\n				\n									\n					\n						\n									Sign in
URL:https://www.cyberinsuranceacademy.com/event/third-party-cyber-risks-masterclass/
LOCATION:Online Event
CATEGORIES:Premium Events
ATTACH;FMTTYPE=image/png:https://www.cyberinsuranceacademy.com/wp-content/uploads/2024/06/Fisher-Broyles.png
END:VEVENT
END:VCALENDAR