BEGIN:VCALENDAR
VERSION:2.0
PRODID:-//Cyber Insurance Academy - ECPv6.15.20//NONSGML v1.0//EN
CALSCALE:GREGORIAN
METHOD:PUBLISH
X-WR-CALNAME:Cyber Insurance Academy
X-ORIGINAL-URL:https://www.cyberinsuranceacademy.com
X-WR-CALDESC:Events for Cyber Insurance Academy
REFRESH-INTERVAL;VALUE=DURATION:PT1H
X-Robots-Tag:noindex
X-PUBLISHED-TTL:PT1H
BEGIN:VTIMEZONE
TZID:UTC
BEGIN:STANDARD
TZOFFSETFROM:+0000
TZOFFSETTO:+0000
TZNAME:UTC
DTSTART:20230101T000000
END:STANDARD
END:VTIMEZONE
BEGIN:VEVENT
DTSTART;TZID=UTC:20240131T180000
DTEND;TZID=UTC:20240131T190000
DTSTAMP:20260420T015536
CREATED:20240131T180054Z
LAST-MODIFIED:20250320T150941Z
UID:10001885-1706724000-1706727600@www.cyberinsuranceacademy.com
SUMMARY:Panel Discussion: Cyber Insurance in 2024
DESCRIPTION:What To Expect From Cyber Insurance In 2024\nNo other line of business has such a dynamic risk landscape on the one hand\, and such growth potential on the other so what’s in store for cyber insurance in 2024? These dynamics continue to play out in the market – but how? Here to help us make sense of it all is a diverse panel of leading industry experts.– \nWatch this in-depth review of the state of the cyber insurance market. This is a rare opportunity to hear from representatives from all key roles in this complex and dynamic market. \nTopics covered:\n\nExploring the next maturity step for cyber insurance\nThe good\, the bad and the outright outlandish: threat activities from the past year\nWhy there’s more to systemic cyber risk than just war exclusions\nReflecting on the rise of the proactive cyber policy\nWhy this regulation is going to drive discussion this year\nAnd much more…\n\nMeet the Speakers:\nCarolyn Purwin Ryan \nPartner\, Mullen Coughlin LLC \nCarolyn Purwin Ryan is a Partner with Mullen Coughlin\, serving as a Breach Coach for organizations who have been victimized by a real or suspected data privacy and security incident. She handles all facets of incident response\, including directing and liaising with various incident response stakeholders such as cyber insurance carriers/brokers\, forensic investigation firms and law enforcement\, as well as counseling her clients on any legal\, regulatory or contractual obligations stemming from the incident\, and effectuating legally required notification to individuals\, regulatory bodies and business partners. She also assists organizations with pre-incident and proactive Advisory Compliance services such as Incident Response Plan development and cyber incident response tabletop exercises\, among others. \n  \nCarolyn was named a Pennsylvania “Rising Star” by SuperLawyers in 2018 and 2019. She received her J.D. from Villanova University School of Law and her B.S. from Georgetown University. \n  \nMullen Coughlin LLC is a law firm solely dedicated to counseling organizations in the context of data privacy and security. With over 110 attorneys\, we are – and our mission is to remain – the data privacy and security thought leader for organizations of all sizes and across all industry sectors. Since its founding in 2016\, Mullen Coughlin has responded to more than 25\,000 data privacy and security incidents; provided proactive counsel to thousands of organizations with Advisory Compliance services and solutions; and defended thousands more in formal regulatory investigation and third-party privacy litigation matters. \n– \nJohn Sinclair \nSenior Underwriter Corporate Cyber\, CFC  \nWith nearly 10 years in the cyber insurance industry\, John is a highly regarded Senior Underwriter on CFC’s Large Corporate Cyber team. Previously at Aspen Insurance Group\, John was awarded “Rising Star – Underwriter of the Year” at the 2019 Insurance Insider Rankings. A Certified Information Systems Security Professional (CISSP) and ACII qualified\, John is a natural leader in his team as well as regular presenter at cyber events around the world. \n– \nCFC is a specialist insurance provider\, pioneer in emerging risk and market leader in cyber. Our global insurance platform uses cutting-edge technology and data science to deliver smarter\, faster underwriting and protect customers from today’s most critical business risks. Headquartered in London with offices in New York\, San Francisco\, Austin\, Brussels and Brisbane\, CFC has over 850 staff and is trusted by more than 130\,000 businesses in 90 countries. Learn more at cfc.com and LinkedIn. \n– \nEd Ventham \nDirector\, Assured \nCo-founder and director of Assured Cyber Ltd\, ‘the broker with the lowest number of claims’. Assured is a specialist insurance brokerage focused 100% on Cyber risk. Ed is also an advocate for the young professional organization ‘Next Generation Insurance Network’ and Industry 100 representative for the NCSC. \n– \nJean Bayon de La Tour  \nInternational Head of Cyber\, Howden \nJean Bayon de La Tour\, with a background in banking encompassing roles in Wealth Management and Internal Audit\, previously spearheaded Marsh’s Cyber broking operations in France. His tenure with Marsh culminated in his appointment as Managing Director and Head of Cyber for Marsh Europe. He now oversees Howden’s international activity in cyber insurance from his base in Spain. \n		\n					\n						\n					\n			\n						\n				\n							\n\n						\n				\n								\n			\n			\n						\n\n									\n						\n							Unlock more world-class knowledge and expertise.						\n					\n				\n				\n			\n			\n		\n						\n				\n				\n				\n									Upgrade your membership to enjoy unlimited access to premium content. 								\n				\n				\n				\n							\n			\n		\n						\n				\n				\n				\n									\n					\n						\n									Upgrade Membership\n					\n					\n				\n								\n				\n				\n				\n									Already have an account? 								\n				\n				\n				\n									\n					\n						\n									Sign in
URL:https://www.cyberinsuranceacademy.com/event/panel-discussion-cyber-insurance-in-2024/
LOCATION:Online Event
CATEGORIES:Premium Events
ATTACH;FMTTYPE=image/png:https://www.cyberinsuranceacademy.com/wp-content/uploads/2024/06/test-4.png
END:VEVENT
END:VCALENDAR