BEGIN:VCALENDAR
VERSION:2.0
PRODID:-//Cyber Insurance Academy - ECPv6.15.20//NONSGML v1.0//EN
CALSCALE:GREGORIAN
METHOD:PUBLISH
X-ORIGINAL-URL:https://www.cyberinsuranceacademy.com
X-WR-CALDESC:Events for Cyber Insurance Academy
REFRESH-INTERVAL;VALUE=DURATION:PT1H
X-Robots-Tag:noindex
X-PUBLISHED-TTL:PT1H
BEGIN:VTIMEZONE
TZID:UTC
BEGIN:STANDARD
TZOFFSETFROM:+0000
TZOFFSETTO:+0000
TZNAME:UTC
DTSTART:20230101T000000
END:STANDARD
END:VTIMEZONE
BEGIN:VEVENT
DTSTART;TZID=UTC:20240501T180000
DTEND;TZID=UTC:20240501T190000
DTSTAMP:20260423T085857
CREATED:20240501T180022Z
LAST-MODIFIED:20250320T151844Z
UID:10001882-1714586400-1714590000@www.cyberinsuranceacademy.com
SUMMARY:Decoding Digital Disasters: Cyber Models as a Lens into Systemic Risk Part 1
DESCRIPTION:This is an advanced\, two-part cyber risk modeling seminar that brings a fresh perspective on systemic risk issues\, CAT modeling\, and an in-depth review of the ways cyber models are built and maintained.\n\nSeminar Agenda\n\nPart One explores how to think about cyber risk. We take a CAT modeling crash course and consider the various challenges unique to cyber and how this influences the way we model the risk.\nPart Two offered a deep dive into cyber modeling with an exploration of modeling components\, data\, and frameworks.\n\nMeet the Cyber Risk Modelling Seminar Speaker\nBethany Vohlers\nBethany Vohlers is a Cyber Model & Product Specialist in the Moody’s RMS Cyber Solutions team\, where she is responsible for driving the global growth and adoption of Moody’s RMS Cyber Solutions to support diverse use cases across the (re)insurance value chain. \nMoody’s RMS\nIn a world shaped by increasingly interconnected risks\, Moody’s data\, insights\, and innovative technologies help customers develop a holistic view of their world and unlock opportunities. With a rich history of experience in global markets and a diverse workforce in more than 40 countries\, Moody’s gives customers the comprehensive perspective needed to act with confidence and thrive.
URL:https://www.cyberinsuranceacademy.com/event/decoding-digital-disasters-cyber-models-as-a-lens-into-systemic-risk-part-1/
CATEGORIES:Premium Events
ATTACH;FMTTYPE=image/png:https://www.cyberinsuranceacademy.com/wp-content/uploads/2024/06/Moodys.png
END:VEVENT
END:VCALENDAR