BEGIN:VCALENDAR
VERSION:2.0
PRODID:-//Cyber Insurance Academy - ECPv6.15.20//NONSGML v1.0//EN
CALSCALE:GREGORIAN
METHOD:PUBLISH
X-WR-CALNAME:Cyber Insurance Academy
X-ORIGINAL-URL:https://www.cyberinsuranceacademy.com
X-WR-CALDESC:Events for Cyber Insurance Academy
REFRESH-INTERVAL;VALUE=DURATION:PT1H
X-Robots-Tag:noindex
X-PUBLISHED-TTL:PT1H
BEGIN:VTIMEZONE
TZID:UTC
BEGIN:STANDARD
TZOFFSETFROM:+0000
TZOFFSETTO:+0000
TZNAME:UTC
DTSTART:20250101T000000
END:STANDARD
END:VTIMEZONE
BEGIN:VEVENT
DTSTART;TZID=UTC:20260203T080000
DTEND;TZID=UTC:20260204T170000
DTSTAMP:20260422T021916
CREATED:20251125T122627Z
LAST-MODIFIED:20260119T085338Z
UID:10001950-1770105600-1770224400@www.cyberinsuranceacademy.com
SUMMARY:Industry Event: Intelligent Insurer Cyber Risk & Insurance Innovation Europe Conference
DESCRIPTION:Europe’s Cyber Leaders\, Insurers\, Brokers\, MGAs\, and Security Experts Unite to Tackle a Fast-Evolving Threat Landscape\nCyber risk is accelerating faster than coverage\, regulation\, and resilience strategies can keep up. Large organisations are more resilient\, but reliance on digital supply chains\, growing privacy regulations\, and sophisticated social engineering attacks are expanding exposure for all companies. Market potential remains high\, yet penetration—especially among SMEs—stays stagnant\, leaving major gaps in coverage. \n  \nJoin 250+ senior leaders from Investec\, DUAL\, Chubb\, Aon\, Marsh\, Lockton\, Gallagher\, Generali\, Travelers\, HDI\, Stoïk\, Coalition\, Price Forbes\, Munich Re\, Mosaic\, Beazley\, Brit Insurance\, CFC\, Chaucer\, Allianz\, Howden\, the UK Ministry of Defence\, and more at Europe’s industry-leading Cyber Risk & Insurance Innovation Europe 2026\, London\, February 3–4. \n  \nTackle today’s biggest issues\, connect and network with peers\, discover what’s working and what’s next\, and take away practical strategies to grow profitably\, minimise losses\, and build sustainable\, resilient cyber coverage. \n  \nRegister here: https://pages.services/newton.media/II-Events-Cyber-Risk-Insurance-Innovation-EU-2026-Register-Your-Interest/?ts=1747045160439
URL:https://www.cyberinsuranceacademy.com/event/industry-event-intelligent-insurer-cyber-risk-insurance-innovation-europe-conference-2/
LOCATION:London\, UK
CATEGORIES:Industry Event
ATTACH;FMTTYPE=image/png:https://www.cyberinsuranceacademy.com/wp-content/uploads/2025/11/71-1.png
END:VEVENT
BEGIN:VEVENT
DTSTART;TZID=UTC:20260204T080000
DTEND;TZID=UTC:20260204T170000
DTSTAMP:20260422T021916
CREATED:20251125T111017Z
LAST-MODIFIED:20260119T085338Z
UID:10001937-1770192000-1770224400@www.cyberinsuranceacademy.com
SUMMARY:Industry Event: Intelligent Insurer Cyber Insurance Awards Europe
DESCRIPTION:Intelligent Insurer’s Cyber Insurance Europe Awards are back and bigger than ever – don’t miss your chance to enter and attend!\nNow in their 3rd successful year\, Intelligent Insurer’s Cyber Insurance Awards Europe recognise and celebrate companies\, teams and individuals for excellence\, innovation and sector-wide contributions in cyber insurance. \n  \nWith a wide range of categories from broking through to emerging talent\, there are categories not just for all company types but also for individuals. Entering the awards is free of charge and is a fantastic opportunity to showcase your achievements\, celebrate success and gain a competitive edge. Judged by an independent panel of top industry leaders\, the awards process is rigorous\, fair\, and prestigious. \n  \nRegister here: https://iiawards.newton.media/cyberinsuranceeuropeawards2026/en/page/home
URL:https://www.cyberinsuranceacademy.com/event/industry-event-intelligent-insurer-cyber-insurance-awards-europe-2/
LOCATION:London
CATEGORIES:Free Events,Industry Event
ATTACH;FMTTYPE=image/png:https://www.cyberinsuranceacademy.com/wp-content/uploads/2025/11/59.png
END:VEVENT
END:VCALENDAR