BEGIN:VCALENDAR
VERSION:2.0
PRODID:-//Cyber Insurance Academy - ECPv6.15.20//NONSGML v1.0//EN
CALSCALE:GREGORIAN
METHOD:PUBLISH
X-WR-CALNAME:Cyber Insurance Academy
X-ORIGINAL-URL:https://www.cyberinsuranceacademy.com
X-WR-CALDESC:Events for Cyber Insurance Academy
REFRESH-INTERVAL;VALUE=DURATION:PT1H
X-Robots-Tag:noindex
X-PUBLISHED-TTL:PT1H
BEGIN:VTIMEZONE
TZID:UTC
BEGIN:STANDARD
TZOFFSETFROM:+0000
TZOFFSETTO:+0000
TZNAME:UTC
DTSTART:20250101T000000
END:STANDARD
END:VTIMEZONE
BEGIN:VEVENT
DTSTART;TZID=UTC:20260311T080000
DTEND;TZID=UTC:20260313T170000
DTSTAMP:20260420T152347
CREATED:20251125T112850Z
LAST-MODIFIED:20260119T085339Z
UID:10001942-1773216000-1773421200@www.cyberinsuranceacademy.com
SUMMARY:Industry Event: WiCyS 2025 Annual Conference
DESCRIPTION:The WiCyS conference is the premier event to RECRUIT\, RETAIN and ADVANCE women in cybersecurity— all while creating a community of engagement\, encouragement and support at a technical conference for women and allies. WiCyS brings together women and allies in cybersecurity from academia\, research\, government\, and industry. \n  \nConference components include keynote speakers\, technical presentations\, workshops\, panel discussions\, lightning talks\, networking socials\, résumé reviews\, mock interviews\, professional headshots\, a career fair for hiring professionals and students\, a capture-the-flag competition\, an escape room\, a breakfast honoring military personnel\, and more. \n  \nRegister here: https://www.wicys.org/events/wicys-2026/
URL:https://www.cyberinsuranceacademy.com/event/industry-event-wicys-2025-annual-conference-2/
LOCATION:Texas\, USA
CATEGORIES:Free Events,Industry Event
ATTACH;FMTTYPE=image/png:https://www.cyberinsuranceacademy.com/wp-content/uploads/2025/11/64.png
END:VEVENT
BEGIN:VEVENT
DTSTART;TZID=UTC:20260312T080000
DTEND;TZID=UTC:20260318T170000
DTSTAMP:20260420T152347
CREATED:20251125T123311Z
LAST-MODIFIED:20260119T085339Z
UID:10001952-1773302400-1773853200@www.cyberinsuranceacademy.com
SUMMARY:Industry Event: Tech Industry Track SXSW
DESCRIPTION:Tech & AI Track\n\nArtificial intelligence and the tech industry have become inseparable forces driving innovation and transformation across the globe. This track highlights cutting-edge platforms\, visionary leaders\, advanced software\, and state-of-the-art hardware that are shaping the future of technology and society. Explore how Tech is redefining industries\, powering new business models\, and creating the next wave of breakthroughs in an ever-evolving digital landscape. \n\nAbout the SXSW Innovation Conference\nThe SXSW Innovation Conference provides an opportunity for global professionals at every level to participate\, network\, and advance their careers. From March 12-18\, explore conference programming across 10 diverse tracks and a variety of formats\, including Keynotes and Featured Sessions\, panels\, workshops\, and more. \n  \nRegister here: https://sxsw.com/conference/tech-industry/
URL:https://www.cyberinsuranceacademy.com/event/industry-event-tech-industry-track-sxsw/
LOCATION:Texas\, USA
CATEGORIES:Free Events,Industry Event
ATTACH;FMTTYPE=image/png:https://www.cyberinsuranceacademy.com/wp-content/uploads/2025/11/73.png
END:VEVENT
END:VCALENDAR