BEGIN:VCALENDAR
VERSION:2.0
PRODID:-//Cyber Insurance Academy - ECPv6.15.20//NONSGML v1.0//EN
CALSCALE:GREGORIAN
METHOD:PUBLISH
X-WR-CALNAME:Cyber Insurance Academy
X-ORIGINAL-URL:https://www.cyberinsuranceacademy.com
X-WR-CALDESC:Events for Cyber Insurance Academy
REFRESH-INTERVAL;VALUE=DURATION:PT1H
X-Robots-Tag:noindex
X-PUBLISHED-TTL:PT1H
BEGIN:VTIMEZONE
TZID:UTC
BEGIN:STANDARD
TZOFFSETFROM:+0000
TZOFFSETTO:+0000
TZNAME:UTC
DTSTART:20250101T000000
END:STANDARD
END:VTIMEZONE
BEGIN:VEVENT
DTSTART;TZID=UTC:20260503T080000
DTEND;TZID=UTC:20260506T170000
DTSTAMP:20260420T164303
CREATED:20251125T152412Z
LAST-MODIFIED:20260119T085146Z
UID:10001963-1777795200-1778086800@www.cyberinsuranceacademy.com
SUMMARY:Industry Event: RIMS RISKWORLD 2025
DESCRIPTION:There’s no limit to what you can achieve when you join the global risk management community at RISKWORLD®. That’s because this immersive experience offers everything you need – all in one place – to build your skills\, elevate your expertise and make your organization risk resilient: \n  \nConnect at networking events with risk professionals across diverse industries and learn more about the universal outlook of risk management. \n  \nEngage in community building with other leaders and experts from around the world to solve challenges\, share ideas and prepare for emerging risks. \n  \nAttend top-tier education sessions to learn new strategies and insights into the future of global intelligence that can empower you to make an impact. \n  \nDiscover an inclusive Marketplace of solutions and technologies to help you navigate the evolving risk landscape and safeguard your company’s assets. \n  \nRegister here: https://www.rims.org/annual-conferences/riskworld-2024/home
URL:https://www.cyberinsuranceacademy.com/event/industry-event-rims-riskworld-2025/
LOCATION:San Diego\, California
CATEGORIES:Free Events,Industry Event
ATTACH;FMTTYPE=image/png:https://www.cyberinsuranceacademy.com/wp-content/uploads/2025/11/84.png
END:VEVENT
END:VCALENDAR