BEGIN:VCALENDAR
VERSION:2.0
PRODID:-//Cyber Insurance Academy - ECPv6.15.20//NONSGML v1.0//EN
CALSCALE:GREGORIAN
METHOD:PUBLISH
X-WR-CALNAME:Cyber Insurance Academy
X-ORIGINAL-URL:https://www.cyberinsuranceacademy.com
X-WR-CALDESC:Events for Cyber Insurance Academy
REFRESH-INTERVAL;VALUE=DURATION:PT1H
X-Robots-Tag:noindex
X-PUBLISHED-TTL:PT1H
BEGIN:VTIMEZONE
TZID:UTC
BEGIN:STANDARD
TZOFFSETFROM:+0000
TZOFFSETTO:+0000
TZNAME:UTC
DTSTART:20250101T000000
END:STANDARD
END:VTIMEZONE
BEGIN:VEVENT
DTSTART;TZID=UTC:20260527T080000
DTEND;TZID=UTC:20260528T170000
DTSTAMP:20260420T185756
CREATED:20251125T125832Z
LAST-MODIFIED:20260119T085147Z
UID:10001958-1779868800-1779987600@www.cyberinsuranceacademy.com
SUMMARY:Industry Event: Altaworld Insurance Tech Innovation Conference
DESCRIPTION:In recent years\, the insurance industry has faced new challenges and opportunities\, prompting companies to break conventional barriers and innovate. The rise of InsurTech has introduced new business models\, strategies\, and advanced technologies\, enabling companies to take significant steps in their digital transformation journey. \n  \nThe way value is created and delivered in the insurance industry has undergone a radical shift\, accelerated by the global pandemic. Leading insurance companies are reimagining their operations\, both internally and externally\, to meet the evolving needs of their customers. Today\, staying ahead in the market requires embracing technology and digital transformation to navigate a world in flux. \n  \nAs insurance leaders chart a new course driven by technological advancements\, we at Altaworld are dedicated to creating an alternative ecosystem built on innovation\, digital transformation\, and end-to-end connections. \n  \nTo stay competitive\, insurance companies must accelerate their transformation efforts. Wondering how to navigate this journey? Join our Insurance Tech Innovation Conference on 27 – 28 May 2026\, where 30+ insurance technology experts will share the latest strategies\, insights\, solutions\, and innovations to drive your insurance transformation journey! \n  \nRegister here: https://events.altaworld.tech/Insurance-Tech-Innovation-Conference-London.html
URL:https://www.cyberinsuranceacademy.com/event/industry-event-altaworld-insurance-tech-innovation-conference/
LOCATION:London\, UK
CATEGORIES:Free Events,Industry Event
ATTACH;FMTTYPE=image/png:https://www.cyberinsuranceacademy.com/wp-content/uploads/2025/11/79.png
END:VEVENT
END:VCALENDAR