BEGIN:VCALENDAR
VERSION:2.0
PRODID:-//Cyber Insurance Academy - ECPv6.15.20//NONSGML v1.0//EN
CALSCALE:GREGORIAN
METHOD:PUBLISH
X-WR-CALNAME:Cyber Insurance Academy
X-ORIGINAL-URL:https://www.cyberinsuranceacademy.com
X-WR-CALDESC:Events for Cyber Insurance Academy
REFRESH-INTERVAL;VALUE=DURATION:PT1H
X-Robots-Tag:noindex
X-PUBLISHED-TTL:PT1H
BEGIN:VTIMEZONE
TZID:UTC
BEGIN:STANDARD
TZOFFSETFROM:+0000
TZOFFSETTO:+0000
TZNAME:UTC
DTSTART:20220101T000000
END:STANDARD
END:VTIMEZONE
BEGIN:VEVENT
DTSTART;TZID=UTC:20231114T160000
DTEND;TZID=UTC:20231114T170000
DTSTAMP:20260419T204313
CREATED:20231114T180052Z
LAST-MODIFIED:20250320T150736Z
UID:10001886-1699977600-1699981200@www.cyberinsuranceacademy.com
SUMMARY:Masterclass: Going Beyond Just the Minimum Requirements to Keep Your Client Insurable
DESCRIPTION:Going Beyond Just the Minimum Requirements to Keep Your Client Insurable\nThere is a lot more to cybersecurity than just ticking boxes. Navigating developments both in cybersecurity technology and in minimum requirements can be overwhelmingly challenging at times. \nIn this Masterclass\, Homa Shaner\, CEO of FWRD Tech\, guides our community through the top reasons a cyber policy is denied\, cutting through the noise in the cybersecurity sector\, advising your clients on a multi-layered security posture\, talking to your clients about managed security\, and top questions to ask key stakeholders. \nMasterclass Topics:\n\nUnderstanding how multiple measures need to be in place to properly secure an organization.\nWhy do People\, Process\, and Technology equally matter when securing an organization?\nWhat are the 7 layers of Cybersecurity that need to be accounted for?\nUnderstanding Effective Tabletop Exercises and Incident Response Plans\nWhy is an MSSP helpful for most organizations?\nBest Practices to Remain Insurable\n\nMasterclass Speaker:\nHoma Shaner \nCEO\, FWRD Tech \nHoma has harnessed over 12 years of technology consulting ranging from Network\, Cloud\, and Cybersecurity. Today\, she regularly works with cyber insurance brokers and their clients on ensuring that they are both cyber policy ready and cyber posture strong. She specializes in simplifying the IT decision-making process and enabling businesses to take advantage of next-generation technology. \nAbout FWRD Tech\nFWRD Tech has been successful in helping organizations of all sizes implement the right technology to meet their needs. We strive to help organizations fill in their gaps to keep their business moving forward. \n		\n					\n						\n					\n			\n						\n				\n							\n\n						\n				\n								\n			\n			\n						\n\n									\n						\n							Unlock more world-class knowledge and expertise.						\n					\n				\n				\n			\n			\n		\n						\n				\n				\n				\n									Upgrade your membership to enjoy unlimited access to premium content. 								\n				\n				\n				\n							\n			\n		\n						\n				\n				\n				\n									\n					\n						\n									Upgrade Membership\n					\n					\n				\n								\n				\n				\n				\n									Already have an account? 								\n				\n				\n				\n									\n					\n						\n									Sign in
URL:https://www.cyberinsuranceacademy.com/event/masterclass-going-beyond-just-the-minimum-requirements-to-keep-your-client-insurable/
LOCATION:Online Event
CATEGORIES:Premium Events
ATTACH;FMTTYPE=image/png:https://www.cyberinsuranceacademy.com/wp-content/uploads/2024/06/FWRD-Tech.png
END:VEVENT
END:VCALENDAR