BEGIN:VCALENDAR
VERSION:2.0
PRODID:-//Cyber Insurance Academy - ECPv6.15.20//NONSGML v1.0//EN
CALSCALE:GREGORIAN
METHOD:PUBLISH
X-WR-CALNAME:Cyber Insurance Academy
X-ORIGINAL-URL:https://www.cyberinsuranceacademy.com
X-WR-CALDESC:Events for Cyber Insurance Academy
REFRESH-INTERVAL;VALUE=DURATION:PT1H
X-Robots-Tag:noindex
X-PUBLISHED-TTL:PT1H
BEGIN:VTIMEZONE
TZID:UTC
BEGIN:STANDARD
TZOFFSETFROM:+0000
TZOFFSETTO:+0000
TZNAME:UTC
DTSTART:20250101T000000
END:STANDARD
END:VTIMEZONE
BEGIN:VEVENT
DTSTART;TZID=UTC:20260303T080000
DTEND;TZID=UTC:20260304T170000
DTSTAMP:20260420T140045
CREATED:20251125T112025Z
LAST-MODIFIED:20260119T085338Z
UID:10001939-1772524800-1772643600@www.cyberinsuranceacademy.com
SUMMARY:Industry Event: Professional Liability Underwriting Society D&O
DESCRIPTION:Connect at the 2026 PLUS D&O Symposium in New York City for two days of education\, market insights\, and networking! Explore the latest in economic conditions\, securities litigation\, and other key issues shaping directors and officers liability insurance. \n  \nRegister here: https://plusweb.org/events/conference-symposia/plus-do-symposium/
URL:https://www.cyberinsuranceacademy.com/event/industry-event-professional-liability-underwriting-society-do/
LOCATION:New York\, NY\, United States
CATEGORIES:Free Events,Industry Event
ATTACH;FMTTYPE=image/png:https://www.cyberinsuranceacademy.com/wp-content/uploads/2025/11/61.png
END:VEVENT
BEGIN:VEVENT
DTSTART;TZID=UTC:20260305T080000
DTEND;TZID=UTC:20260305T170000
DTSTAMP:20260420T140045
CREATED:20251125T112314Z
LAST-MODIFIED:20260119T085338Z
UID:10001940-1772697600-1772730000@www.cyberinsuranceacademy.com
SUMMARY:Industry Event: Zywave Casualty Insights Conference
DESCRIPTION:Don’t Miss Zywave’s Casualty Insights Conference\n\n\n\n\n\n\n\n\n\n\n\n\nZywave’s Casualty Insights Conference is the premier insurance industry event addressing today’s casualty risk management and insurance issues. \n  \nNow in its 16th year\, the conference brings together risk managers\, brokers\, underwriters\, claim professionals\, reinsurers\, and attorneys to share expert knowledge on market trends\, significant legal developments\, emerging exposures\, and managing risk in an ever-evolving liability landscape. \n  \n\nRegister here: https://zywave.cventevents.com/event/CasualtyInsights2026/register?RefId=General+Attendee+Registration&rp=77f319fc-d42e-4643-87b1-45bf4748e9bf
URL:https://www.cyberinsuranceacademy.com/event/industry-event-zywave-casualty-insights-conference-2/
LOCATION:New York\, NY\, United States
CATEGORIES:Free Events,Industry Event
ATTACH;FMTTYPE=image/png:https://www.cyberinsuranceacademy.com/wp-content/uploads/2025/11/62.png
END:VEVENT
BEGIN:VEVENT
DTSTART;TZID=UTC:20260309T080000
DTEND;TZID=UTC:20260310T170000
DTSTAMP:20260420T140045
CREATED:20251125T122938Z
LAST-MODIFIED:20260119T085339Z
UID:10001951-1773043200-1773162000@www.cyberinsuranceacademy.com
SUMMARY:Industry Event: Gartner Tech Growth & Innovation
DESCRIPTION:Gartner Tech Growth & Innovation Conference\n\n\n\nExplore our newly released conference brochure to discover how this conference tackles the priorities and challenges of tech and service provider leaders.\n\n\nRegister here: https://www.gartner.com/en/conferences/na/product-leadership-us/conference-resources/brochure
URL:https://www.cyberinsuranceacademy.com/event/industry-event-gartner-tech-growth-innovation/
LOCATION:Grapevine\, Texas
CATEGORIES:Free Events,Industry Event
ATTACH;FMTTYPE=image/png:https://www.cyberinsuranceacademy.com/wp-content/uploads/2025/11/72.png
END:VEVENT
BEGIN:VEVENT
DTSTART;TZID=UTC:20260311T080000
DTEND;TZID=UTC:20260312T170000
DTSTAMP:20260420T140045
CREATED:20251125T112604Z
LAST-MODIFIED:20260119T085339Z
UID:10001941-1773216000-1773334800@www.cyberinsuranceacademy.com
SUMMARY:Industry Event: ExecuSummit Cyber Liability Insurance Summit
DESCRIPTION:14th Annual Cyber Liability Insurance ExecuSummit\nJoin us at the Mohegan Sun Resort & Convention Center in Uncasville\, CT on March 11 & 12\, 2026 for the day & a half\, high-impact 14th Annual Cyber Liabilities Insurance ExecuSummit. \n  \nExecuSummit producers are in the forefront of the cyber liability and data risk\, monitoring & researching emerging issues and trends and bringing this strategic intelligence to you as it is developing. \n  \nOur distinguished presenters have pooled their expertise to provide you with the essential cyber liability insurance underwriting and claims intelligence you need to know. \n  \nHave a specific question? Our Q&A sessions will provide numerous opportunities to ask the experts. \n  \nAn ExecuSummit is not a trade show. This educational event was specifically designed for cyber liability insurance focused professionals. This summit is a unique opportunity to get the information you need to succeed in this rapidly changing environment. \n  \nRegister here: https://www.cyberliabilityconference.com/
URL:https://www.cyberinsuranceacademy.com/event/industry-event-execusummit-cyber-liability-insurance-summit-2/
LOCATION:Connecticut
CATEGORIES:Free Events,Industry Event
ATTACH;FMTTYPE=image/png:https://www.cyberinsuranceacademy.com/wp-content/uploads/2025/11/63.png
END:VEVENT
BEGIN:VEVENT
DTSTART;TZID=UTC:20260311T080000
DTEND;TZID=UTC:20260313T170000
DTSTAMP:20260420T140045
CREATED:20251125T112850Z
LAST-MODIFIED:20260119T085339Z
UID:10001942-1773216000-1773421200@www.cyberinsuranceacademy.com
SUMMARY:Industry Event: WiCyS 2025 Annual Conference
DESCRIPTION:The WiCyS conference is the premier event to RECRUIT\, RETAIN and ADVANCE women in cybersecurity— all while creating a community of engagement\, encouragement and support at a technical conference for women and allies. WiCyS brings together women and allies in cybersecurity from academia\, research\, government\, and industry. \n  \nConference components include keynote speakers\, technical presentations\, workshops\, panel discussions\, lightning talks\, networking socials\, résumé reviews\, mock interviews\, professional headshots\, a career fair for hiring professionals and students\, a capture-the-flag competition\, an escape room\, a breakfast honoring military personnel\, and more. \n  \nRegister here: https://www.wicys.org/events/wicys-2026/
URL:https://www.cyberinsuranceacademy.com/event/industry-event-wicys-2025-annual-conference-2/
LOCATION:Texas\, USA
CATEGORIES:Free Events,Industry Event
ATTACH;FMTTYPE=image/png:https://www.cyberinsuranceacademy.com/wp-content/uploads/2025/11/64.png
END:VEVENT
BEGIN:VEVENT
DTSTART;TZID=UTC:20260312T080000
DTEND;TZID=UTC:20260318T170000
DTSTAMP:20260420T140045
CREATED:20251125T123311Z
LAST-MODIFIED:20260119T085339Z
UID:10001952-1773302400-1773853200@www.cyberinsuranceacademy.com
SUMMARY:Industry Event: Tech Industry Track SXSW
DESCRIPTION:Tech & AI Track\n\nArtificial intelligence and the tech industry have become inseparable forces driving innovation and transformation across the globe. This track highlights cutting-edge platforms\, visionary leaders\, advanced software\, and state-of-the-art hardware that are shaping the future of technology and society. Explore how Tech is redefining industries\, powering new business models\, and creating the next wave of breakthroughs in an ever-evolving digital landscape. \n\nAbout the SXSW Innovation Conference\nThe SXSW Innovation Conference provides an opportunity for global professionals at every level to participate\, network\, and advance their careers. From March 12-18\, explore conference programming across 10 diverse tracks and a variety of formats\, including Keynotes and Featured Sessions\, panels\, workshops\, and more. \n  \nRegister here: https://sxsw.com/conference/tech-industry/
URL:https://www.cyberinsuranceacademy.com/event/industry-event-tech-industry-track-sxsw/
LOCATION:Texas\, USA
CATEGORIES:Free Events,Industry Event
ATTACH;FMTTYPE=image/png:https://www.cyberinsuranceacademy.com/wp-content/uploads/2025/11/73.png
END:VEVENT
BEGIN:VEVENT
DTSTART;TZID=UTC:20260318T080000
DTEND;TZID=UTC:20260319T170000
DTSTAMP:20260420T140045
CREATED:20251125T123607Z
LAST-MODIFIED:20260119T085339Z
UID:10001953-1773820800-1773939600@www.cyberinsuranceacademy.com
SUMMARY:Industry Event: Insurtech Insights
DESCRIPTION:Europe’s Largest Insurtech Conference\n\n\n\nImprove your knowledge on challenging and strategic issues relevant to any organization\nStay on top of future trends and seize new opportunities\nExpand your toolset and effectively solve the challenges of today and tomorrow\n\nRegister here: https://www.insurtechinsights.com/europe/
URL:https://www.cyberinsuranceacademy.com/event/industry-event-insurtech-insights-2/
LOCATION:London\, UK
CATEGORIES:Free Events,Industry Event
ATTACH;FMTTYPE=image/png:https://www.cyberinsuranceacademy.com/wp-content/uploads/2025/11/74.png
END:VEVENT
BEGIN:VEVENT
DTSTART;TZID=UTC:20260322T080000
DTEND;TZID=UTC:20260325T170000
DTSTAMP:20260420T140045
CREATED:20251125T145314Z
LAST-MODIFIED:20260119T085145Z
UID:10001960-1774166400-1774458000@www.cyberinsuranceacademy.com
SUMMARY:Industry Event: NAIC National Meeting Spring
DESCRIPTION:Register here: https://content.naic.org/events
URL:https://www.cyberinsuranceacademy.com/event/industry-event-naic-national-meeting-spring-2/
LOCATION:San Diego\, California
CATEGORIES:Free Events,Industry Event
ATTACH;FMTTYPE=image/png:https://www.cyberinsuranceacademy.com/wp-content/uploads/2025/11/81.png
END:VEVENT
BEGIN:VEVENT
DTSTART;TZID=UTC:20260323T080000
DTEND;TZID=UTC:20260326T170000
DTSTAMP:20260420T140045
CREATED:20251125T145529Z
LAST-MODIFIED:20260119T085145Z
UID:10001961-1774252800-1774544400@www.cyberinsuranceacademy.com
SUMMARY:Industry Event: RSA Conference
DESCRIPTION:The Power of Community Starts with You: Registration for RSAC 2026 is Now Open!\nIdeas become breakthroughs when shared. Challenges become opportunities when tackled together. That’s the Power of Community—a key focus for RSAC™ 2026 Conference. Real change happens when cybersecurity professionals unite. \n  \nWhether you’re an RSAC™ Conference first-timer or a returning attendee\, you won’t want to miss what’s in store for RSAC 2026. \n  \nRegister here: https://www.rsaconference.com/usa
URL:https://www.cyberinsuranceacademy.com/event/industry-event-rsa-conference/
LOCATION:San Francisco\, California
CATEGORIES:Free Events,Industry Event
ATTACH;FMTTYPE=image/png:https://www.cyberinsuranceacademy.com/wp-content/uploads/2025/11/82.png
END:VEVENT
BEGIN:VEVENT
DTSTART;TZID=UTC:20260330T080000
DTEND;TZID=UTC:20260331T170000
DTSTAMP:20260420T140045
CREATED:20251125T152129Z
LAST-MODIFIED:20260119T085145Z
UID:10001962-1774857600-1774976400@www.cyberinsuranceacademy.com
SUMMARY:Industry Event: IAPP Global Privacy Summit
DESCRIPTION:IAPP Global Privacy Summit is the world’s largest gathering of privacy\, artificial intelligence governance\, and cybersecurity law professionals. Summit speakers unravel the complexities of law\, regulation\, policy\, management and operations around digital responsibility. \n  \nRegister here: https://iapp.org/conference/global-privacy-summit/
URL:https://www.cyberinsuranceacademy.com/event/industry-event-iapp-global-privacy-summit/
LOCATION:Washington\, DC
CATEGORIES:Free Events,Industry Event
ATTACH;FMTTYPE=image/png:https://www.cyberinsuranceacademy.com/wp-content/uploads/2025/11/83.png
END:VEVENT
END:VCALENDAR