BEGIN:VCALENDAR
VERSION:2.0
PRODID:-//Cyber Insurance Academy - ECPv6.15.20//NONSGML v1.0//EN
CALSCALE:GREGORIAN
METHOD:PUBLISH
X-ORIGINAL-URL:https://www.cyberinsuranceacademy.com
X-WR-CALDESC:Events for Cyber Insurance Academy
REFRESH-INTERVAL;VALUE=DURATION:PT1H
X-Robots-Tag:noindex
X-PUBLISHED-TTL:PT1H
BEGIN:VTIMEZONE
TZID:UTC
BEGIN:STANDARD
TZOFFSETFROM:+0000
TZOFFSETTO:+0000
TZNAME:UTC
DTSTART:20250101T000000
END:STANDARD
END:VTIMEZONE
BEGIN:VEVENT
DTSTART;TZID=UTC:20260817T080000
DTEND;TZID=UTC:20260819T170000
DTSTAMP:20260422T232219
CREATED:20251125T153204Z
LAST-MODIFIED:20260119T085147Z
UID:10001967-1786953600-1787158800@www.cyberinsuranceacademy.com
SUMMARY:Industry Event: ISACA GRC Conference
DESCRIPTION:Don’t miss out on this opportunity to be part of something extraordinary in one of the world’s most dynamic cities. Join industry leaders\, innovators\, and like-minded professionals as we explore the newest GRC ideas and foster new connections. \n  \nRegister here: https://www.isaca.org/training-and-events/conferences/grc-conference
URL:https://www.cyberinsuranceacademy.com/event/industry-event-isaca-grc-conference/
LOCATION:New York\, NY\, United States
CATEGORIES:Free Events,Industry Event
ATTACH;FMTTYPE=image/png:https://www.cyberinsuranceacademy.com/wp-content/uploads/2025/11/87.png
END:VEVENT
BEGIN:VEVENT
DTSTART;TZID=UTC:20261029T080000
DTEND;TZID=UTC:20261029T170000
DTSTAMP:20260422T232219
CREATED:20251125T115247Z
LAST-MODIFIED:20260119T085148Z
UID:10001949-1793260800-1793293200@www.cyberinsuranceacademy.com
SUMMARY:Industry Event: InfoSec SecureWorld
DESCRIPTION:Cybersecurity Conferences 2025 – 2026\nAll Security Conference Niches | Upcoming Cybersecurity Events\n  \nOur cybersecurity conference directory is meticulously updated and checked manually to prevent spam\, ensuring it remains the community’s premier resource for discovering top cybersecurity conferences\, events\, meetings\, and seminars for 2024\, 2025\, and beyond. This carefully curated list caters to chief information security officers (CISOs)\, cybersecurity leaders\, technology executives\, and anyone passionate about the field.
URL:https://www.cyberinsuranceacademy.com/event/industry-event-infosec-secureworld/
LOCATION:New York\, NY\, United States
CATEGORIES:Free Events,Industry Event
ATTACH;FMTTYPE=image/png:https://www.cyberinsuranceacademy.com/wp-content/uploads/2025/11/71.png
END:VEVENT
END:VCALENDAR